BEGIN:VCALENDAR
VERSION:2.0
PRODID:-//Cie CTC - ECPv6.15.20//NONSGML v1.0//EN
CALSCALE:GREGORIAN
METHOD:PUBLISH
X-WR-CALNAME:Cie CTC
X-ORIGINAL-URL:https://cie-ctc.com
X-WR-CALDESC:Évènements pour Cie CTC
REFRESH-INTERVAL;VALUE=DURATION:PT1H
X-Robots-Tag:noindex
X-PUBLISHED-TTL:PT1H
BEGIN:VTIMEZONE
TZID:UTC
BEGIN:STANDARD
TZOFFSETFROM:+0000
TZOFFSETTO:+0000
TZNAME:UTC
DTSTART:20250101T000000
END:STANDARD
END:VTIMEZONE
BEGIN:VEVENT
DTSTART;TZID=UTC:20260523T153000
DTEND;TZID=UTC:20260523T160000
DTSTAMP:20260419T135829
CREATED:20250910T155326Z
LAST-MODIFIED:20260203T173559Z
UID:1261-1779550200-1779552000@cie-ctc.com
SUMMARY:Dans le cadre de la Nuit des Musées
DESCRIPTION:Réservation obligatoire auprès du musée Stendhal
URL:https://cie-ctc.com/event/perfin-situ-3
LOCATION:Musée Stendhal\, Musée Stendhal\, Grenoble
CATEGORIES:Cie CTC
END:VEVENT
BEGIN:VEVENT
DTSTART;TZID=UTC:20260523T170000
DTEND;TZID=UTC:20260523T173000
DTSTAMP:20260419T135829
CREATED:20250910T155436Z
LAST-MODIFIED:20260203T173459Z
UID:1264-1779555600-1779557400@cie-ctc.com
SUMMARY:Dans le cadre de la Nuit des Musées
DESCRIPTION:Réservation obligatoire auprès du musée Stendhal
URL:https://cie-ctc.com/event/perfin-situ-4
LOCATION:Musée Stendhal\, Musée Stendhal\, Grenoble
CATEGORIES:Cie CTC
END:VEVENT
BEGIN:VEVENT
DTSTART;TZID=UTC:20260523T183000
DTEND;TZID=UTC:20260523T190000
DTSTAMP:20260419T135829
CREATED:20250910T155515Z
LAST-MODIFIED:20260203T173427Z
UID:1266-1779561000-1779562800@cie-ctc.com
SUMMARY:Dans le cadre de la Nuit des Musées
DESCRIPTION:Réservation obligatoire auprès du musée Stendhal
URL:https://cie-ctc.com/event/perfin-situ-5
LOCATION:Musée Stendhal\, Musée Stendhal\, Grenoble
CATEGORIES:Cie CTC
END:VEVENT
BEGIN:VEVENT
DTSTART;TZID=UTC:20260524T000000
DTEND;TZID=UTC:20260524T235959
DTSTAMP:20260419T135829
CREATED:20251130T192523Z
LAST-MODIFIED:20251130T192523Z
UID:1345-1779580800-1779667199@cie-ctc.com
SUMMARY:Partenariat MJC Claix - horaire à définir
DESCRIPTION:
URL:https://cie-ctc.com/event/partenariat-mjc-claix-horaire-a-definir
LOCATION:Déclic Claix\, Déclic\, Claix
CATEGORIES:Cie CTC
END:VEVENT
BEGIN:VEVENT
DTSTART;TZID=UTC:20260530T200000
DTEND;TZID=UTC:20260530T210000
DTSTAMP:20260419T135829
CREATED:20251130T191925Z
LAST-MODIFIED:20260331T155850Z
UID:1340-1780171200-1780174800@cie-ctc.com
SUMMARY:EAC Ste Agnès/St Mury Monteymond
DESCRIPTION:
URL:https://cie-ctc.com/event/cadd-2
LOCATION:salle Camille Giroud\, Salle camille Giroud\, St Mury
CATEGORIES:Cie CTC
END:VEVENT
BEGIN:VEVENT
DTSTART;TZID=UTC:20260606T000000
DTEND;TZID=UTC:20260606T235959
DTSTAMP:20260419T135829
CREATED:20251130T201544Z
LAST-MODIFIED:20260331T160305Z
UID:1350-1780704000-1780790399@cie-ctc.com
SUMMARY:Fête des tuiles - Grenoble
DESCRIPTION:
URL:https://cie-ctc.com/event/tissage-metissage-option-2
LOCATION:Fête des Tuiles – Grenoble
CATEGORIES:Cie CTC
END:VEVENT
BEGIN:VEVENT
DTSTART;TZID=UTC:20260919T080000
DTEND;TZID=UTC:20260919T170000
DTSTAMP:20260419T135829
CREATED:20251211T173450Z
LAST-MODIFIED:20251211T173450Z
UID:1353-1789804800-1789837200@cie-ctc.com
SUMMARY:Partenariat avec Art & Danse - horaires à préciser
DESCRIPTION:
URL:https://cie-ctc.com/event/partenariat-avec-art-danse-horaires-a-preciser
LOCATION:musée gallo-romain Aoste\, Musée gallo-romain d'Aoste\, Aoste\, France
CATEGORIES:Cie CTC
END:VEVENT
END:VCALENDAR