BEGIN:VCALENDAR
VERSION:2.0
PRODID:-//Cie CTC - ECPv6.15.20//NONSGML v1.0//EN
CALSCALE:GREGORIAN
METHOD:PUBLISH
X-WR-CALNAME:Cie CTC
X-ORIGINAL-URL:https://cie-ctc.com
X-WR-CALDESC:Évènements pour Cie CTC
REFRESH-INTERVAL;VALUE=DURATION:PT1H
X-Robots-Tag:noindex
X-PUBLISHED-TTL:PT1H
BEGIN:VTIMEZONE
TZID:UTC
BEGIN:STANDARD
TZOFFSETFROM:+0000
TZOFFSETTO:+0000
TZNAME:UTC
DTSTART:20230101T000000
END:STANDARD
END:VTIMEZONE
BEGIN:VEVENT
DTSTART;TZID=UTC:20260314T120000
DTEND;TZID=UTC:20260314T120000
DTSTAMP:20260419T155350
CREATED:20250717T101600Z
LAST-MODIFIED:20250717T102133Z
UID:1219-1773489600-1773489600@cie-ctc.com
SUMMARY:Dans le cadre de l'EAC "Entre fil et bulles" avec le lycée Argouges
DESCRIPTION:(horaires à confirmer)
URL:https://cie-ctc.com/event/dans-le-cadre-de-leac-entre-fil-et-bulles-avec-le-lycee-argouges
LOCATION:Musée de Grenoble\, Musée de Grenoble\, Grenoble\, France
CATEGORIES:Cie CTC
END:VEVENT
BEGIN:VEVENT
DTSTART;TZID=UTC:20251219T150000
DTEND;TZID=UTC:20251219T160000
DTSTAMP:20260419T155350
CREATED:20251130T191512Z
LAST-MODIFIED:20251130T191512Z
UID:1337-1766156400-1766160000@cie-ctc.com
SUMMARY:Partenariat Ville de Fontaine
DESCRIPTION:
URL:https://cie-ctc.com/event/partenariat-ville-de-fontaine
LOCATION:Espace Nelson Mandela\, Fontaine\, Espace Nelson mandela\, Fontaine\, France
CATEGORIES:Cie CTC
END:VEVENT
BEGIN:VEVENT
DTSTART;TZID=UTC:20251003T160000
DTEND;TZID=UTC:20251003T170000
DTSTAMP:20260419T155350
CREATED:20250717T095014Z
LAST-MODIFIED:20250910T160642Z
UID:1206-1759507200-1759510800@cie-ctc.com
SUMMARY:Sortie de résidence FINALE - ATTENTION JAUGE LIMITEE
DESCRIPTION:Clique ici pour réserver ta place gratuite !                                                                                                              Organisation de covoiturages par ici:     COVOITURONS !  
URL:https://cie-ctc.com/event/cadd
LOCATION:Espace culturel Navarre\, Espace culturel Navarre\, Champ-sur-Drac
CATEGORIES:Cie CTC
END:VEVENT
BEGIN:VEVENT
DTSTART;TZID=UTC:20250703T193000
DTEND;TZID=UTC:20250703T203000
DTSTAMP:20260419T155350
CREATED:20241204T110255Z
LAST-MODIFIED:20250415T134246Z
UID:1069-1751571000-1751574600@cie-ctc.com
SUMMARY:Représentation dans les jardins
DESCRIPTION:
URL:https://cie-ctc.com/event/representation-dans-les-jardins
LOCATION:Centre médical Rocheplane\, Centre médical Rocheplane\, Saint-Martin-d'Hères\, France
CATEGORIES:Cie CTC
END:VEVENT
BEGIN:VEVENT
DTSTART;TZID=UTC:20250619T200000
DTEND;TZID=UTC:20250619T220000
DTSTAMP:20260419T155350
CREATED:20250717T130557Z
LAST-MODIFIED:20250717T130557Z
UID:1241-1750363200-1750370400@cie-ctc.com
SUMMARY:Festival les Soirées
DESCRIPTION:
URL:https://cie-ctc.com/event/festival-les-soirees-5
LOCATION:Théatre Prémol\, Théatre Prémol\, Grenoble
CATEGORIES:Cie Du Mardi
END:VEVENT
BEGIN:VEVENT
DTSTART;TZID=UTC:20250619T160000
DTEND;TZID=UTC:20250619T180000
DTSTAMP:20260419T155350
CREATED:20250207T112022Z
LAST-MODIFIED:20250516T105201Z
UID:1130-1750348800-1750356000@cie-ctc.com
SUMMARY:Performance danse-musique dans le cadre de "Fenêtre Ouverte"
DESCRIPTION:
URL:https://cie-ctc.com/event/improvisations-dansees-et-chantees-lors-de-fenetre-ouverte
LOCATION:Centre médical Rocheplane\, Centre médical Rocheplane\, Saint-Martin-d'Hères\, France
CATEGORIES:Cie CTC
END:VEVENT
BEGIN:VEVENT
DTSTART;TZID=UTC:20250613T135000
DTEND;TZID=UTC:20250613T145000
DTSTAMP:20260419T155350
CREATED:20250416T101940Z
LAST-MODIFIED:20250610T082059Z
UID:1170-1749822600-1749826200@cie-ctc.com
SUMMARY:Dans le cadre du dispositif Artistes au collège\, Savoie Département
DESCRIPTION:
URL:https://cie-ctc.com/event/en-collaboration-avec-le-college-de-lepine
LOCATION:Salle Polyvalente de Novalaise\, Salle Polyvalente de Novalaise
CATEGORIES:Cie CTC
END:VEVENT
BEGIN:VEVENT
DTSTART;TZID=UTC:20250606T200000
DTEND;TZID=UTC:20250606T200000
DTSTAMP:20260419T155350
CREATED:20250610T135003Z
LAST-MODIFIED:20250610T135611Z
UID:1177-1749240000-1749240000@cie-ctc.com
SUMMARY:Dans le cadre du festival Pont Qui Bouge
DESCRIPTION:
URL:https://cie-ctc.com/event/dans-le-cadre-du-festival-pont-qui-bouge
LOCATION:Agora Guiers\, Agora Guiers\, Le Pont-de-Beauvoisin
CATEGORIES:Cie CTC
END:VEVENT
BEGIN:VEVENT
DTSTART;TZID=UTC:20250606T110000
DTEND;TZID=UTC:20250606T170000
DTSTAMP:20260419T155350
CREATED:20250610T141119Z
LAST-MODIFIED:20250610T141119Z
UID:1182-1749207600-1749229200@cie-ctc.com
SUMMARY:Dans le cadre du dispositif PICC
DESCRIPTION:
URL:https://cie-ctc.com/event/dans-le-cadre-du-dispositif-picc
LOCATION:Collège Le Guillon\, Collège Le Guillon\, Le Pont-de-Beauvoisin
CATEGORIES:Cie CTC
END:VEVENT
BEGIN:VEVENT
DTSTART;TZID=UTC:20250524T200000
DTEND;TZID=UTC:20250524T220000
DTSTAMP:20260419T155350
CREATED:20250717T130346Z
LAST-MODIFIED:20250717T130346Z
UID:1238-1748116800-1748124000@cie-ctc.com
SUMMARY:Festival Carte Blanche Chorégraphe
DESCRIPTION:
URL:https://cie-ctc.com/event/festival-carte-blanche-choregraphe
LOCATION:espace culturel Léo Lagrange\, Espace culturel Léo Lagrange\, Poisat
CATEGORIES:Cie Du Mardi
END:VEVENT
BEGIN:VEVENT
DTSTART;TZID=UTC:20250524T173000
DTEND;TZID=UTC:20250524T173000
DTSTAMP:20260419T155350
CREATED:20250117T145238Z
LAST-MODIFIED:20250415T134759Z
UID:1117-1748107800-1748107800@cie-ctc.com
SUMMARY:Représentation dans le cadre du festival "Horizons Circulaires"
DESCRIPTION:
URL:https://cie-ctc.com/event/representation-dans-le-cadre-de-la-fete-de-leconomie-circulaire
LOCATION:Riom\, Riom
CATEGORIES:Cie CTC
END:VEVENT
BEGIN:VEVENT
DTSTART;TZID=UTC:20250520T143000
DTEND;TZID=UTC:20250520T170000
DTSTAMP:20260419T155350
CREATED:20250701T141825Z
LAST-MODIFIED:20250701T142433Z
UID:1189-1747751400-1747760400@cie-ctc.com
SUMMARY:Corps\, corpus\, décors...
DESCRIPTION:Musée Homme \nDans le cadre des rencontres des résidences au collège – Isère département
URL:https://cie-ctc.com/event/corps-corpus-decors
LOCATION:Théâtre François Ponsard\, Théâtre François Ponsard\, Vienne
CATEGORIES:Cie CTC
END:VEVENT
BEGIN:VEVENT
DTSTART;TZID=UTC:20250518T133000
DTEND;TZID=UTC:20250518T140000
DTSTAMP:20260419T155350
CREATED:20250415T135030Z
LAST-MODIFIED:20250415T135046Z
UID:1162-1747575000-1747576800@cie-ctc.com
SUMMARY:Dans le cadre de la Nuit des Musées - "Corps à l'œuvre" avec les élèves du lycée Argouges
DESCRIPTION:
URL:https://cie-ctc.com/event/dans-le-cadre-de-la-nuit-des-musees-corps-a-loeuvre-avec-les-eleves-du-lycee-argouges
LOCATION:Musée de Grenoble\, Musée de Grenoble\, Grenoble\, France
CATEGORIES:Cie CTC
END:VEVENT
BEGIN:VEVENT
DTSTART;TZID=UTC:20250518T103000
DTEND;TZID=UTC:20250518T113000
DTSTAMP:20260419T155350
CREATED:20241204T095216Z
LAST-MODIFIED:20250415T134919Z
UID:1064-1747564200-1747567800@cie-ctc.com
SUMMARY:Dans le cadre de la Nuit des Musées - "Corps à l'œuvre" avec les élèves du lycée Argouges
DESCRIPTION:
URL:https://cie-ctc.com/event/corps-a-loeuvre
LOCATION:Musée de Grenoble\, Musée de Grenoble\, Grenoble\, France
CATEGORIES:Cie CTC
END:VEVENT
BEGIN:VEVENT
DTSTART;TZID=UTC:20250517T170000
DTEND;TZID=UTC:20250517T173000
DTSTAMP:20260419T155350
CREATED:20250415T135644Z
LAST-MODIFIED:20250415T135644Z
UID:1168-1747501200-1747503000@cie-ctc.com
SUMMARY:Performance en lien avec l'exposition de Kaarina Kaikkonen dans le cadre de la Nuit des Musées
DESCRIPTION:
URL:https://cie-ctc.com/event/performance-en-lien-avec-lexposition-de-kaarina-kaikkonen-dans-le-cadre-de-la-nuit-des-musees-2
LOCATION:Musée archéologique Saint-Laurent\, Musée archéologique Saint-Laurent\, Grenoble\, France
CATEGORIES:Cie CTC
END:VEVENT
BEGIN:VEVENT
DTSTART;TZID=UTC:20250517T153000
DTEND;TZID=UTC:20250517T160000
DTSTAMP:20260419T155350
CREATED:20250415T135535Z
LAST-MODIFIED:20250415T135535Z
UID:1166-1747495800-1747497600@cie-ctc.com
SUMMARY:Performance en lien avec l'exposition de Kaarina Kaikkonen dans le cadre de la Nuit des Musées
DESCRIPTION:
URL:https://cie-ctc.com/event/performance-en-lien-avec-lexposition-de-kaarina-kaikkonen-dans-le-cadre-de-la-nuit-des-musees
LOCATION:Musée archéologique Saint-Laurent\, Musée archéologique Saint-Laurent\, Grenoble\, France
CATEGORIES:Cie CTC
END:VEVENT
BEGIN:VEVENT
DTSTART;TZID=UTC:20250517T140000
DTEND;TZID=UTC:20250517T143000
DTSTAMP:20260419T155350
CREATED:20241204T094936Z
LAST-MODIFIED:20250415T135443Z
UID:1061-1747490400-1747492200@cie-ctc.com
SUMMARY:Performance en lien avec l'exposition de Kaarina Kaikkonen dans le cadre de la Nuit des Musées
DESCRIPTION:
URL:https://cie-ctc.com/event/perfin-situ-2
LOCATION:Musée archéologique Saint-Laurent\, Musée archéologique Saint-Laurent\, Grenoble\, France
CATEGORIES:Cie CTC
END:VEVENT
BEGIN:VEVENT
DTSTART;TZID=UTC:20250426T183000
DTEND;TZID=UTC:20250426T193000
DTSTAMP:20260419T155350
CREATED:20250207T111659Z
LAST-MODIFIED:20250207T111659Z
UID:1126-1745692200-1745695800@cie-ctc.com
SUMMARY:Représentation de iN lors des 10 jours de la culture
DESCRIPTION:
URL:https://cie-ctc.com/event/representation-de-in-lors-des-10-jours-de-la-culture
LOCATION:Musée Dauphinois\, Musée Dauphinois\, Grenoble
CATEGORIES:Cie CTC
END:VEVENT
BEGIN:VEVENT
DTSTART;TZID=UTC:20250411T000000
DTEND;TZID=UTC:20250411T235959
DTSTAMP:20260419T155350
CREATED:20241206T162740Z
LAST-MODIFIED:20250415T134134Z
UID:1091-1744329600-1744415999@cie-ctc.com
SUMMARY:Travail autour de la fast fashion avec les élèves de terminales section européenne du lycée Notre Dame
DESCRIPTION:
URL:https://cie-ctc.com/event/travail-autour-de-la-fast-fashion-avec-les-eleves-de-terminales-section-europeenne
LOCATION:Le Pathé\, Le Pathé\, Valence
CATEGORIES:Cie CTC
END:VEVENT
BEGIN:VEVENT
DTSTART;TZID=UTC:20250316T170000
DTEND;TZID=UTC:20250316T180000
DTSTAMP:20260419T155350
CREATED:20250717T125853Z
LAST-MODIFIED:20250717T130010Z
UID:1235-1742144400-1742148000@cie-ctc.com
SUMMARY:MJC Claix
DESCRIPTION:
URL:https://cie-ctc.com/event/mjc-claix
LOCATION:Déclic Claix\, Déclic\, Claix
CATEGORIES:Cie Du Mardi
END:VEVENT
BEGIN:VEVENT
DTSTART;TZID=UTC:20250315T190000
DTEND;TZID=UTC:20250315T200000
DTSTAMP:20260419T155350
CREATED:20241206T163538Z
LAST-MODIFIED:20250225T151135Z
UID:1099-1742065200-1742068800@cie-ctc.com
SUMMARY:Sortie de résidence cadd**®
DESCRIPTION:Clique ici pour choper ta place gratuite !
URL:https://cie-ctc.com/event/sortie-de-residence-cadd-4
LOCATION:Espace Victor Schoelcher\, Espace Victor Schoelcher\, Seyssins
CATEGORIES:Cie CTC
END:VEVENT
BEGIN:VEVENT
DTSTART;TZID=UTC:20250314T141500
DTEND;TZID=UTC:20250314T153000
DTSTAMP:20260419T155350
CREATED:20250114T085523Z
LAST-MODIFIED:20250114T085523Z
UID:1115-1741961700-1741966200@cie-ctc.com
SUMMARY:Sortie de résidence Cadd**® - Réservé aux élèves de Marc Sangnier
DESCRIPTION:
URL:https://cie-ctc.com/event/sortie-de-residence-cadd-reserve-aux-eleves-de-marc-sangnier
LOCATION:Espace Victor Schoelcher\, Espace Victor Schoelcher\, Seyssins
CATEGORIES:Cie CTC
END:VEVENT
BEGIN:VEVENT
DTSTART;TZID=UTC:20250310T000000
DTEND;TZID=UTC:20250315T235959
DTSTAMP:20260419T155350
CREATED:20241107T110623Z
LAST-MODIFIED:20241107T110623Z
UID:1054-1741564800-1742083199@cie-ctc.com
SUMMARY:Résidence Cadd**®
DESCRIPTION:
URL:https://cie-ctc.com/event/residence-cadd-3
LOCATION:Espace Victor Schoelcher et collège Marc Sangnier\, Espace Victor Schoelcher et collège Marc Sangnier\, Seyssins
CATEGORIES:Cie CTC
END:VEVENT
BEGIN:VEVENT
DTSTART;TZID=UTC:20250226T150000
DTEND;TZID=UTC:20250226T160000
DTSTAMP:20260419T155350
CREATED:20241206T163344Z
LAST-MODIFIED:20250225T105152Z
UID:1097-1740582000-1740585600@cie-ctc.com
SUMMARY:Sortie de résidence cadd**®
DESCRIPTION:
URL:https://cie-ctc.com/event/sortie-de-residence-cadd-3
LOCATION:La Faïencerie\, La Faïencerie\, La Tronche
CATEGORIES:Cie CTC
END:VEVENT
BEGIN:VEVENT
DTSTART;TZID=UTC:20250224T000000
DTEND;TZID=UTC:20250228T235959
DTSTAMP:20260419T155350
CREATED:20241107T110356Z
LAST-MODIFIED:20241107T110356Z
UID:1052-1740355200-1740787199@cie-ctc.com
SUMMARY:Résidence Cadd**®
DESCRIPTION:
URL:https://cie-ctc.com/event/residence-cadd-2
LOCATION:La Faïencerie\, La Faïencerie\, La Tronche
CATEGORIES:Cie CTC
END:VEVENT
BEGIN:VEVENT
DTSTART;TZID=UTC:20250217T000000
DTEND;TZID=UTC:20250221T235959
DTSTAMP:20260419T155350
CREATED:20241107T103537Z
LAST-MODIFIED:20241107T103537Z
UID:1047-1739750400-1740182399@cie-ctc.com
SUMMARY:Résidence Cadd**®
DESCRIPTION:
URL:https://cie-ctc.com/event/residence-cadd
LOCATION:Odyssée\, Odyssée\, Eybens\, France
CATEGORIES:Cie CTC
END:VEVENT
BEGIN:VEVENT
DTSTART;TZID=UTC:20241115T160000
DTEND;TZID=UTC:20241115T170000
DTSTAMP:20260419T155350
CREATED:20241107T103040Z
LAST-MODIFIED:20241112T114520Z
UID:1044-1731686400-1731690000@cie-ctc.com
SUMMARY:Sortie de résidence Cadd**®
DESCRIPTION:
URL:https://cie-ctc.com/event/sortie-de-residence-cadd-2
LOCATION:La Faïencerie\, La Faïencerie\, La Tronche
CATEGORIES:Cie CTC
END:VEVENT
BEGIN:VEVENT
DTSTART;TZID=UTC:20241108T190000
DTEND;TZID=UTC:20241108T200000
DTSTAMP:20260419T155350
CREATED:20241107T092907Z
LAST-MODIFIED:20241107T104428Z
UID:1040-1731092400-1731096000@cie-ctc.com
SUMMARY:Sortie de résidence cadd**®
DESCRIPTION:Dans le cadre du programme StudioD Emergence coordonné par l’Atelier de Paris / CDCN\, avec le soutien du mécénat de la Caisse des Dépôts.
URL:https://cie-ctc.com/event/sortie-de-residence-cadd
LOCATION:Réservoir Danse\, Réservoir Danse\, Rennes\, 35000\, France
CATEGORIES:Cie CTC
END:VEVENT
BEGIN:VEVENT
DTSTART;TZID=UTC:20241102T180000
DTEND;TZID=UTC:20241102T203000
DTSTAMP:20260419T155350
CREATED:20240829T133351Z
LAST-MODIFIED:20241011T152723Z
UID:984-1730570400-1730579400@cie-ctc.com
SUMMARY:Spectacle iN
DESCRIPTION:Festival Fest’In Textile
URL:https://cie-ctc.com/event/spectacle-in
LOCATION:Salle Polyvalente – La Buisse\, Rue des Écoles\, La Buisse\, 38500\, France
CATEGORIES:Cie CTC
END:VEVENT
BEGIN:VEVENT
DTSTART;TZID=UTC:20240913T200000
DTEND;TZID=UTC:20240913T210000
DTSTAMP:20260419T155350
CREATED:20240909T212614Z
LAST-MODIFIED:20240909T213913Z
UID:1012-1726257600-1726261200@cie-ctc.com
SUMMARY:Perf'in situ
DESCRIPTION:Inauguration Agora Guiers
URL:https://cie-ctc.com/event/perfin-situ
LOCATION:Agora Guiers\, Agora Guiers\, Le Pont-de-Beauvoisin
CATEGORIES:Cie CTC
ATTACH;FMTTYPE=image/png:https://cie-ctc.com/wp-content/uploads/2024/09/Perfin-Situ.png
END:VEVENT
END:VCALENDAR