BEGIN:VCALENDAR
VERSION:2.0
PRODID:-//Cie CTC - ECPv6.15.20//NONSGML v1.0//EN
CALSCALE:GREGORIAN
METHOD:PUBLISH
X-ORIGINAL-URL:https://cie-ctc.com
X-WR-CALDESC:Évènements pour Cie CTC
REFRESH-INTERVAL;VALUE=DURATION:PT1H
X-Robots-Tag:noindex
X-PUBLISHED-TTL:PT1H
BEGIN:VTIMEZONE
TZID:UTC
BEGIN:STANDARD
TZOFFSETFROM:+0000
TZOFFSETTO:+0000
TZNAME:UTC
DTSTART:20200101T000000
END:STANDARD
END:VTIMEZONE
BEGIN:VEVENT
DTSTART;TZID=UTC:20221011T160000
DTEND;TZID=UTC:20221011T160000
DTSTAMP:20260420T031825
CREATED:20230710T211042Z
LAST-MODIFIED:20230907T140055Z
UID:279-1665504000-1665504000@cie-ctc.com
SUMMARY:Inauguration "10 Jours de la culture"
DESCRIPTION:
URL:https://cie-ctc.com/event/inauguration-10-jours-de-la-culture
LOCATION:Parvis de la MC2\, Parvis de la MC2\, Grenoble
CATEGORIES:Cie CTC
END:VEVENT
BEGIN:VEVENT
DTSTART;TZID=UTC:20220925T150000
DTEND;TZID=UTC:20220925T170000
DTSTAMP:20260420T031825
CREATED:20230710T210935Z
LAST-MODIFIED:20230907T140055Z
UID:276-1664118000-1664125200@cie-ctc.com
SUMMARY:Festival "Ponts qui dansent"
DESCRIPTION:ATELIERS GRATUITS INSCRIS TOI !!!
URL:https://cie-ctc.com/event/festival-ponts-qui-dansent
LOCATION:Pont de Beauvoisin\, Pl. du Théatre de Verdure\, Pont de Beauvoisin
CATEGORIES:Cie CTC
END:VEVENT
BEGIN:VEVENT
DTSTART;TZID=UTC:20220902T173000
DTEND;TZID=UTC:20220902T173000
DTSTAMP:20260420T031825
CREATED:20230710T210803Z
LAST-MODIFIED:20230907T140055Z
UID:274-1662139800-1662139800@cie-ctc.com
SUMMARY:Festival "Hoche la tête"
DESCRIPTION:ATELIERS GRATUITS INSCRIS TOI !!!
URL:https://cie-ctc.com/event/festival-hoche-la-tete
LOCATION:Jardin Hoche\, Jardin Hoche\, Grenoble
CATEGORIES:Cie CTC
END:VEVENT
BEGIN:VEVENT
DTSTART;TZID=UTC:20220818T190000
DTEND;TZID=UTC:20220818T190000
DTSTAMP:20260420T031825
CREATED:20230710T210704Z
LAST-MODIFIED:20230907T140055Z
UID:271-1660849200-1660849200@cie-ctc.com
SUMMARY:Festival de la cour du Vieux Temple
DESCRIPTION:ATELIERS GRATUITS INSCRIS TOI !!!
URL:https://cie-ctc.com/event/festival-de-la-cour-du-vieux-temple
LOCATION:Cour Marcel Raymond\, Cour Marcel Raymond\, Grenoble
CATEGORIES:Cie CTC
END:VEVENT
BEGIN:VEVENT
DTSTART;TZID=UTC:20220802T203000
DTEND;TZID=UTC:20220802T203000
DTSTAMP:20260420T031825
CREATED:20230710T210528Z
LAST-MODIFIED:20230907T140055Z
UID:268-1659472200-1659472200@cie-ctc.com
SUMMARY:"Soirs d'été à Fontaine"
DESCRIPTION:ATELIERS GRATUITS INSCRIS TOI !!!
URL:https://cie-ctc.com/event/soirs-dete-a-fontaine
LOCATION:Place Maisonnat\, Place Maisonnat\, Fontaine
CATEGORIES:Cie CTC
END:VEVENT
BEGIN:VEVENT
DTSTART;TZID=UTC:20220703T140000
DTEND;TZID=UTC:20220703T170000
DTSTAMP:20260420T031825
CREATED:20230710T210403Z
LAST-MODIFIED:20230907T140055Z
UID:265-1656856800-1656867600@cie-ctc.com
SUMMARY:Festival Belledonne en Cirque
DESCRIPTION:
URL:https://cie-ctc.com/event/festival-belledonne-en-cirque
LOCATION:Lac de Freydières\, Lac de Freydières\, Revel
CATEGORIES:Cie CTC
END:VEVENT
BEGIN:VEVENT
DTSTART;TZID=UTC:20220625T170000
DTEND;TZID=UTC:20220625T170000
DTSTAMP:20260420T031825
CREATED:20230710T210313Z
LAST-MODIFIED:20230907T140055Z
UID:262-1656176400-1656176400@cie-ctc.com
SUMMARY:Fête de quartier Abbaye
DESCRIPTION:
URL:https://cie-ctc.com/event/fete-de-quartier-abbaye
LOCATION:Parc Condé\, Parc Condé\, Grenoble
CATEGORIES:Cie CTC
END:VEVENT
BEGIN:VEVENT
DTSTART;TZID=UTC:20220604T000000
DTEND;TZID=UTC:20220604T235959
DTSTAMP:20260420T031825
CREATED:20230710T210134Z
LAST-MODIFIED:20230907T140055Z
UID:259-1654300800-1654387199@cie-ctc.com
SUMMARY:Festival du Mouvement
DESCRIPTION:
URL:https://cie-ctc.com/event/festival-du-mouvement
LOCATION:Vif\, Vif
CATEGORIES:Cie CTC
END:VEVENT
BEGIN:VEVENT
DTSTART;TZID=UTC:20211009T170000
DTEND;TZID=UTC:20211009T170000
DTSTAMP:20260420T031825
CREATED:20230710T204847Z
LAST-MODIFIED:20230907T140055Z
UID:238-1633798800-1633798800@cie-ctc.com
SUMMARY:Festival "Ouverture Exceptionnelle"
DESCRIPTION:
URL:https://cie-ctc.com/event/festival-ouverture-exceptionnelle
LOCATION:Square de Fusillés\, Square de Fusillés\, Grenoble
CATEGORIES:Cie CTC
END:VEVENT
BEGIN:VEVENT
DTSTART;TZID=UTC:20211009T140000
DTEND;TZID=UTC:20211009T170000
DTSTAMP:20260420T031825
CREATED:20230710T205032Z
LAST-MODIFIED:20230907T140055Z
UID:241-1633788000-1633798800@cie-ctc.com
SUMMARY:Festival "Ouverture Exceptionnelle"
DESCRIPTION:
URL:https://cie-ctc.com/event/festival-ouverture-exceptionnelle-2
LOCATION:Place Maisonnat\, Place Maisonnat\, Fontaine
CATEGORIES:Cie CTC
END:VEVENT
BEGIN:VEVENT
DTSTART;TZID=UTC:20210918T180000
DTEND;TZID=UTC:20210918T180000
DTSTAMP:20260420T031825
CREATED:20230710T205243Z
LAST-MODIFIED:20230907T140055Z
UID:244-1631988000-1631988000@cie-ctc.com
SUMMARY:Fête de l'Ile Verte
DESCRIPTION:
URL:https://cie-ctc.com/event/fete-de-lile-verte
LOCATION:Ecole Paul Bert\, 7 Place Dr Girard\, Quartier "Ile Verte" Grenoble
CATEGORIES:Cie CTC
END:VEVENT
BEGIN:VEVENT
DTSTART;TZID=UTC:20210910T000000
DTEND;TZID=UTC:20210910T235959
DTSTAMP:20260420T031825
CREATED:20230710T205409Z
LAST-MODIFIED:20230907T140056Z
UID:247-1631232000-1631318399@cie-ctc.com
SUMMARY:Dans le cadre du Festival Nïkaala
DESCRIPTION:
URL:https://cie-ctc.com/event/dans-le-cadre-du-festival-nikaala
LOCATION:Lomé/Togo\, Lomé/Togo\, Togo
CATEGORIES:Cie CTC
END:VEVENT
BEGIN:VEVENT
DTSTART;TZID=UTC:20210828T183000
DTEND;TZID=UTC:20210828T183000
DTSTAMP:20260420T031825
CREATED:20230710T205544Z
LAST-MODIFIED:20230907T140056Z
UID:250-1630175400-1630175400@cie-ctc.com
SUMMARY:Dans le cadre du Festival Eclats de Culture
DESCRIPTION:
URL:https://cie-ctc.com/event/dans-le-cadre-du-festival-eclats-de-culture
LOCATION:Quartier « Abbaye »\, Quartier "Abbaye"\, Grenoble
CATEGORIES:Cie CTC
END:VEVENT
BEGIN:VEVENT
DTSTART;TZID=UTC:20210815T150000
DTEND;TZID=UTC:20210815T170000
DTSTAMP:20260420T031825
CREATED:20230710T205744Z
LAST-MODIFIED:20230907T140056Z
UID:253-1629039600-1629046800@cie-ctc.com
SUMMARY:Festival du 15 Août
DESCRIPTION:deuxième représentation à 18h30
URL:https://cie-ctc.com/event/festival-du-15-aout
LOCATION:Saint-Colomban-des-Villards\, place du Chef Lieu\, Saint-Colomban-des-Villards (73)
CATEGORIES:Cie CTC
END:VEVENT
BEGIN:VEVENT
DTSTART;TZID=UTC:20210716T180000
DTEND;TZID=UTC:20210716T180000
DTSTAMP:20260420T031825
CREATED:20230710T205856Z
LAST-MODIFIED:20230907T140056Z
UID:256-1626458400-1626458400@cie-ctc.com
SUMMARY:Dans le cadre du Festival Eclats de Culture
DESCRIPTION:
URL:https://cie-ctc.com/event/dans-le-cadre-du-festival-eclats-de-culture-2
LOCATION:Jardin Hoche\, Jardin Hoche\, Grenoble
CATEGORIES:Cie CTC
END:VEVENT
END:VCALENDAR