BEGIN:VCALENDAR
VERSION:2.0
PRODID:-//Cie CTC - ECPv6.15.20//NONSGML v1.0//EN
CALSCALE:GREGORIAN
METHOD:PUBLISH
X-WR-CALNAME:Cie CTC
X-ORIGINAL-URL:https://cie-ctc.com
X-WR-CALDESC:Évènements pour Cie CTC
REFRESH-INTERVAL;VALUE=DURATION:PT1H
X-Robots-Tag:noindex
X-PUBLISHED-TTL:PT1H
BEGIN:VTIMEZONE
TZID:UTC
BEGIN:STANDARD
TZOFFSETFROM:+0000
TZOFFSETTO:+0000
TZNAME:UTC
DTSTART:20220101T000000
END:STANDARD
END:VTIMEZONE
BEGIN:VEVENT
DTSTART;TZID=UTC:20230624T144500
DTEND;TZID=UTC:20230624T160000
DTSTAMP:20260423T130243
CREATED:20230707T181826Z
LAST-MODIFIED:20240603T102018Z
UID:168-1687617900-1687622400@cie-ctc.com
SUMMARY:"Encore en Fête"
DESCRIPTION:
URL:https://cie-ctc.com/event/encore-en-fete-gratuit
LOCATION:Place André Charpin\, Place André Charpin\, Grenoble
CATEGORIES:Cie CTC
END:VEVENT
END:VCALENDAR