BEGIN:VCALENDAR
VERSION:2.0
PRODID:-//Cie CTC - ECPv6.15.20//NONSGML v1.0//EN
CALSCALE:GREGORIAN
METHOD:PUBLISH
X-WR-CALNAME:Cie CTC
X-ORIGINAL-URL:https://cie-ctc.com
X-WR-CALDESC:Évènements pour Cie CTC
REFRESH-INTERVAL;VALUE=DURATION:PT1H
X-Robots-Tag:noindex
X-PUBLISHED-TTL:PT1H
BEGIN:VTIMEZONE
TZID:UTC
BEGIN:STANDARD
TZOFFSETFROM:+0000
TZOFFSETTO:+0000
TZNAME:UTC
DTSTART:20220101T000000
END:STANDARD
END:VTIMEZONE
BEGIN:VEVENT
DTSTART;TZID=UTC:20230512T200000
DTEND;TZID=UTC:20230512T200000
DTSTAMP:20260423T145005
CREATED:20230710T212551Z
LAST-MODIFIED:20230907T140028Z
UID:304-1683921600-1683921600@cie-ctc.com
SUMMARY:Sortie de résidence - 3ème étape
DESCRIPTION:GRATUIT – ATELIERS GRATUITS INSCRIS TOI !!!
URL:https://cie-ctc.com/event/sortie-de-residence-3eme-etape
LOCATION:Théatre Prémol\, Théatre Prémol\, Grenoble
CATEGORIES:Cie CTC
END:VEVENT
END:VCALENDAR