BEGIN:VCALENDAR
VERSION:2.0
PRODID:-//Cie CTC - ECPv6.15.20//NONSGML v1.0//EN
CALSCALE:GREGORIAN
METHOD:PUBLISH
X-WR-CALNAME:Cie CTC
X-ORIGINAL-URL:https://cie-ctc.com
X-WR-CALDESC:Évènements pour Cie CTC
REFRESH-INTERVAL;VALUE=DURATION:PT1H
X-Robots-Tag:noindex
X-PUBLISHED-TTL:PT1H
BEGIN:VTIMEZONE
TZID:UTC
BEGIN:STANDARD
TZOFFSETFROM:+0000
TZOFFSETTO:+0000
TZNAME:UTC
DTSTART:20220101T000000
END:STANDARD
END:VTIMEZONE
BEGIN:VEVENT
DTSTART;TZID=UTC:20230402T000000
DTEND;TZID=UTC:20230402T235959
DTSTAMP:20260423T160109
CREATED:20230710T212237Z
LAST-MODIFIED:20230907T140029Z
UID:299-1680393600-1680479999@cie-ctc.com
SUMMARY:Représentation
DESCRIPTION:5 euros\, gratuit aux moins de 6 ans
URL:https://cie-ctc.com/event/representation
LOCATION:Déclic Claix\, Déclic\, Claix
CATEGORIES:Cie CTC
END:VEVENT
END:VCALENDAR