BEGIN:VCALENDAR
VERSION:2.0
PRODID:-//Cie CTC - ECPv6.15.20//NONSGML v1.0//EN
CALSCALE:GREGORIAN
METHOD:PUBLISH
X-ORIGINAL-URL:https://cie-ctc.com
X-WR-CALDESC:Évènements pour Cie CTC
REFRESH-INTERVAL;VALUE=DURATION:PT1H
X-Robots-Tag:noindex
X-PUBLISHED-TTL:PT1H
BEGIN:VTIMEZONE
TZID:UTC
BEGIN:STANDARD
TZOFFSETFROM:+0000
TZOFFSETTO:+0000
TZNAME:UTC
DTSTART:20230101T000000
END:STANDARD
END:VTIMEZONE
BEGIN:VEVENT
DTSTART;TZID=UTC:20240410T183000
DTEND;TZID=UTC:20240410T183000
DTSTAMP:20260421T101310
CREATED:20240304T091717Z
LAST-MODIFIED:20240603T102308Z
UID:800-1712773800-1712773800@cie-ctc.com
SUMMARY:"10 jours de la culture"
DESCRIPTION:ATELIERS GRATUITS INSCRIS TOI !!! : https://la-faiencerie.mapado.com/event/235502-atelier-danse-au-musee-hebert\nRéservation pour la représentation par téléphone auprès du Musée Hébert : 04-76-63-77-49
URL:https://cie-ctc.com/event/performance-et-sortie-dateliers-co-produit-par-la-faiencerie-et-le-musee-hebert
LOCATION:Musée Hébert\, Musée Hébert\, La Tronche\, France
CATEGORIES:Cie CTC
END:VEVENT
BEGIN:VEVENT
DTSTART;TZID=UTC:20240412T173000
DTEND;TZID=UTC:20240412T205900
DTSTAMP:20260421T101310
CREATED:20230707T181200Z
LAST-MODIFIED:20240329T163905Z
UID:159-1712943000-1712955540@cie-ctc.com
SUMMARY:"10 Jours de la Culture" - GRATUIT
DESCRIPTION:ATELIERS GRATUITS INSCRIS TOI !!! : https://la-faiencerie.mapado.com/event/235502-atelier-danse-au-musee-hebert
URL:https://cie-ctc.com/event/10-jours-de-la-culture-gratuit
LOCATION:La Faïencerie\, La Faïencerie\, La Tronche
CATEGORIES:Cie CTC
END:VEVENT
BEGIN:VEVENT
DTSTART;TZID=UTC:20240420T200000
DTEND;TZID=UTC:20240420T205000
DTSTAMP:20260421T101310
CREATED:20240209T154136Z
LAST-MODIFIED:20240416T082325Z
UID:750-1713643200-1713646200@cie-ctc.com
SUMMARY:Festival Les Arts Allumés
DESCRIPTION:
URL:https://cie-ctc.com/event/festival-les-arts-allumes
LOCATION:Sillans\, Salle polyvalente\, Sillans\, France
CATEGORIES:Cie CTC
END:VEVENT
END:VCALENDAR