BEGIN:VCALENDAR
VERSION:2.0
PRODID:-//Cie CTC - ECPv6.15.20//NONSGML v1.0//EN
CALSCALE:GREGORIAN
METHOD:PUBLISH
X-WR-CALNAME:Cie CTC
X-ORIGINAL-URL:https://cie-ctc.com
X-WR-CALDESC:Évènements pour Cie CTC
REFRESH-INTERVAL;VALUE=DURATION:PT1H
X-Robots-Tag:noindex
X-PUBLISHED-TTL:PT1H
BEGIN:VTIMEZONE
TZID:UTC
BEGIN:STANDARD
TZOFFSETFROM:+0000
TZOFFSETTO:+0000
TZNAME:UTC
DTSTART:20220101T000000
END:STANDARD
END:VTIMEZONE
BEGIN:VEVENT
DTSTART;TZID=UTC:20231118T203000
DTEND;TZID=UTC:20231118T203000
DTSTAMP:20260421T170923
CREATED:20231108T091440Z
LAST-MODIFIED:20240603T102250Z
UID:493-1700339400-1700339400@cie-ctc.com
SUMMARY:Spectacle
DESCRIPTION:Dans le cadre du mois de la transition
URL:https://cie-ctc.com/event/spectacle-gratuit
LOCATION:Maison des Associations\, Maison des Associations\, Grenoble\, 38100\, France
CATEGORIES:Cie CTC
ATTACH;FMTTYPE=image/jpeg:https://cie-ctc.com/wp-content/uploads/2023/11/Affiche20231118insta-square-80.jpg
END:VEVENT
END:VCALENDAR